BEGIN:VCALENDAR
VERSION:2.0
PRODID:icalendar-ruby
CALSCALE:GREGORIAN
METHOD:PUBLISH
BEGIN:VEVENT
DTSTAMP:20260424T055453Z
UID:6-656820@unitycovenant.org
DTSTART:20261011T150000Z
DTEND:20261011T170000Z
CLASS:PUBLIC
CREATED:20260423T210301
DESCRIPTION:
LAST-MODIFIED:20260423T210301
LOCATION:
SUMMARY:Worship
URL;VALUE=URI:https://www.unitycovenant.org/events/worship/2026-10-11
ATTACH;FILENAME=238A6471.jpg;FMTTYPE=image/jpeg:https://dq5pwpg1q8ru0.cloud
 front.net/2024/12/20/04/28/08/35e72900-06d6-46c6-bb84-5533ea3a7376/238A647
 1.jpg
END:VEVENT
END:VCALENDAR
