BEGIN:VCALENDAR
VERSION:2.0
PRODID:icalendar-ruby
CALSCALE:GREGORIAN
METHOD:PUBLISH
BEGIN:VEVENT
DTSTAMP:20260419T170009Z
UID:41-584006@unitycovenant.org
DTSTART:20261118T233000Z
DTEND:20261119T003000Z
CLASS:PUBLIC
CREATED:20260315T234752
DESCRIPTION:
LAST-MODIFIED:20260315T234752
LOCATION:
SUMMARY:Family Fellowship
URL;VALUE=URI:https://www.unitycovenant.org/events/family-fellowship--41/20
 26-11-18
END:VEVENT
END:VCALENDAR
